Workbook
Name _10.2_Amélioration_continue: 'ENV2015'!$A$1:$A$41
Name _ENV2015: 'ENV2015'!$A$1:$A$41
Name _SMR20121: OFFSET('SMR20121'!$A:$A,0,0,COUNTA('SMR20121'!$A:$A),1)
Name Auto: OFFSET(#REF!,0,0,COUNTA(#REF!),1)
Name Auto: OFFSET(#REF!,0,0,COUNTA(#REF!),1)
Name Auto: OFFSET(#REF!,0,0,COUNTA(#REF!),1)
Name Auto: OFFSET(#REF!,0,0,COUNTA(#REF!),1)
Name Auto: OFFSET(#REF!,0,0,COUNTA(#REF!),1)
Name Auto: OFFSET(#REF!,0,0,COUNTA(#REF!),1)
Name Energie: OFFSET(Energie!$A$2:$A$201,0,0,COUNTA(Energie!$A$2:$A$201),1)
Name ENV: OFFSET(Environnement!$A:$A,0,0,COUNTA(Environnement!$A:$A),1)
Name ENV2015B: 'ENV2015'!$A$1:$A$52
Name ETUDEMARCHE: ' ISO 20252 2012'!$A$3:$A$43
Name Excel_BuiltIn__FilterDatabase_1: Surveillance1!$A$4:$K$5
Name Excel_BuiltIn__FilterDatabase_1: Surveillance2!$A$4:$I$15
Name Excel_BuiltIn__FilterDatabase_1: Surveillance3!$A$4:$K$15
Name Excel_BuiltIn__FilterDatabase_1: Surveillance4!$A$4:$K$15
Name Excel_BuiltIn__FilterDatabase_1: Surveillance5!$A$4:$K$15
Name Excel_BuiltIn__FilterDatabase_1: Initial_Renewal!$A$5:$K$5
Name Nom_Feuille: MID(CELL("nomfichier"),FIND("]",CELL("nomfichier"))+1,LEN(CELL("nomfichier"))-FIND("]",CELL("nomfichier")))
Name P_P_O: OFFSET(ProcessOrganization!$A$2:$A$76,0,0,COUNTA(ProcessOrganization!$A$2:$A$76),1)
Name QUAL: OFFSET(#REF!,0,0,COUNTA(#REF!),1)
Name QUAL: OFFSET(#REF!,0,0,COUNTA(#REF!),1)
Name QUAL: OFFSET(#REF!,0,0,COUNTA(#REF!),1)
Name QUAL: OFFSET(#REF!,0,0,COUNTA(#REF!),1)
Name QUAL: OFFSET(#REF!,0,0,COUNTA(#REF!),1)
Name QUAL: OFFSET(#REF!,0,0,COUNTA(#REF!),1)
Name QUAL2015: QUAL2015!$A$1:$A$66
Name QUAL2015B: QUAL2015!$A$1:$A$75
Name qualité2015: QUAL2015!$A$1:$A$66
Name SEC: OFFSET(OHSAS!$A:$A,0,0,COUNTA(OHSAS!$A:$A),1)
Name SGSI: OFFSET('SGSI 20k'!$A:$A,0,0,COUNTA('SGSI 20k'!$A:$A),1)
Name Site: OFFSET(Sites!$A$2:$A$101,0,0,COUNTA(Sites!$A$2:$A$101),1)
Name SMGA: 'SMGA 55k'!$A$1:$A$34
Name SMSDA: OFFSET('SMSDA (2018)'!$A:$A,0,0,COUNTA('SMSDA (2018)'!$A:$A),1)
Name SMSDA: OFFSET(SMSDA!$A:$A,0,0,COUNTA(SMSDA!$A:$A),1)
Name SMSI: #REF!
Name SMSI: #REF!
Name SMSI: #REF!
Name SMSI: #REF!
Name SMSI: #REF!
Name SMSI: #REF!
Name SMSI2013: SMSI2013!$A$1:$A$32
Name Themes: Types!$E$3:$E$6
Name Types: OFFSET(Types!$A$3:$A$51,0,0,COUNTA(Types!$A$3:$A$51),1)
Name QUALITE2015: '[2]Quality 2015 ed'!$A$1:$A$76

Sheet ISO 18295-1 (2018)
B1: ISO 18295-1 (2018)
A3: 1 Domaine d'application
A4: 4 Exigences concernant la relation client
A5: 4.1 Généralités
A6: 4.2 Communication d'informations aux clients
A7: 4.3 Mesure et contrôle de l'expérience client
A8: 4.4 Traitement des réclamations
A9: 4.5 Protection du client
A10: 5 Leadership à l'écoute du client
A11: 5.1 Généralités
A12: 5.2 Définition de l’expérience client et mise en œuvre
A13: 5.3 Satisfaction/engagement des collaborateurs
A14: 6 Ressources humaines
... A35: 9 Relations avec le donneur d'ordre

Sheet HDS 1.1 (2018)
C1: HDS 1.1 (2018)
A4: 4.2 Exigences complémentaires NF ISO 27001
A5: 4.3 Exigences extraites de NF ISO 20000-1
A6: 4.3.1 Planification de nouveaux services ou de services modifiés
A7: 4.3.2 Conception et implémentation des nouveaux services ou des services modifiés
A8: 4.3.2.1 Présentation des activités exécutées par les fournisseurs de services, clients et autres parties
A9: 4.3.3 Continuité de services et gestion de la disponibilité
A10: 4.3.3.1 Exigences de continuité et de disponibilité de services
A11: 4.3.3.2 Gestion de la capacité
A12: 4.4 Exigences relatives à la protection des données de santé à caractère personnel
A13: 4.4.1 Droits des personnes
A14: 4.4.1.1 Obligation de coopérer
A15: 4.4.2 Finalité
... A49: 4.5.5 Régionalisation

Sheet ISO 19443 (2018)
D1: ISO 19443 (2018)
A3: 4 Context of the organization
A4: 4.1 Understanding the organization and its context
A5: 4.2 Understanding the needs and expectations of interested parties
A6: 4.3 Determining the scope of the quality management system
A7: 4.4 Quality management system and its processes
A8: 5 Leadership
A9: 5.1 Leadership and commitment
A10: 5.1.1 General
A11: 5.1.2 Customer focus
A12: 5.1.3 Nuclear safety culture
A13: 5.2 Policy
A14: 5.2.1 Establishing the quality policy
... A76: 10.3 Continual improvement

Sheet ISO 18295-1(2018)
A1: 1- Scope | D1: ISO 18295-1 (2018)
A2: 4 - Customer relationship requirements
A3: 4.1 - General
A4: 4.2 - Communication of information to customers
A5: 4.3 - Measuring and monitoring of customer experience
A6: 4.4 - Complaints handling
A7: 4.5 - Customer protection
A8: 5 - Customer-focused leadership
A9: 5.1 - General
A10: 5.2 - Customer experience design and delivery
A11: 5.3 - Employee satisfaction/engagement
A12: 6 - Human resources
A13: 6.1 - General
... A29: 9 - Client relationship

Sheet Initial_Renewal
D1: Audit findings
A2: Renewal | D2: Date (month/year): 09/2018 | E2: Organization: 3181780 (LTTC)
A3: “Type”: Major Nonconformity (Maj NC), Minor Nonconformity (Min NC), Area of Concern (AOC), Opportunity for Improvement (OFI), Strength (S), Note of Conformity (Note)
A4: “X/>>”: NCs, AOCs closed (X) or renewed or with follow-up (>>)
A5: Processes / Principles / Organization | B5: Type | C5: No. | D5: Wording of the finding | F5: Site concerned | G5: ISO 9001 V2015 | H5: ISO 14001 V2015 | I5: OHSAS 18001 V2007 | J5: ISO 45001 V2018 | K5: NFX 30-205 V2013 | L5: NFX 30-205 V2018 | M5: ISO 50001 V2011 | N5: ISO 50001 V2018 | O5: ITSMS 20000-1 V2011 | P5: ISMS 27001 V2013 | Q5: FSMS 22000 V2005 | R5: FSMS 22000 V2018 | S5: ISO 13485 v2016 | T5: RMS 20121 V2012 | U5: AMS 55001 2014 | V5: ISO 20252 2012 | W5: ISO 18295-1 | X5: HDS 1.1 (2018) | Y5: ISO 19443 (2018) | Z5: X/>> | AA5: Order | AB5: Subject to be entered if used for summary
A6: Pharmacology | B6: Note | D6: Khoa kiểm soát soát nhập xuất kho theo FIFO nhằm ngăn ngừa hàng tồn kho hết/cận date, tuy nhiên trong phiếu xuất kho cần chỉ định mã số lot sản phẩm để hỗ trợ quá trình xuất kho tuân thủ triệt để FIFO Department of inventory control under FIFO to prevent product inventory is out of date ... | F6: 201 Pham Viet Chanh street, Nguyen Cu Trinh Ward, District 1, Ho Chi Minh City, Vietnam | G6: 8.5.2 Identification and traceability
A7: Management | B7: Note | F7: 118 Hong Bang street, Ward 12, District 5, HCMC, VN
A8: Management | B8: Note | F8: 118 Hong Bang street, Ward 12, District 5, HCMC, VN
A9: Management | B9: Note | F9: 118 Hong Bang street, Ward 12, District 5, HCMC, VN
A10: Management | B10: Note | F10: 118 Hong Bang street, Ward 12, District 5, HCMC, VN
A11: Management | B11: Note | F11: 118 Hong Bang street, Ward 12, District 5, HCMC, VN
A12: Quality management | B12: Note | F12: 118 Hong Bang street, Ward 12, District 5, HCMC, VN
A13: Quality management | B13: Note | F13: 118 Hong Bang street, Ward 12, District 5, HCMC, VN
A14: Quality management | B14: Note | F14: 118 Hong Bang street, Ward 12, District 5, HCMC, VN
A15: Quality management | B15: Note | F15: 118 Hong Bang street, Ward 12, District 5, HCMC, VN
A16: Quality management | B16: Note | F16: 118 Hong Bang street, Ward 12, District 5, HCMC, VN
A17: Quality management | B17: Note | F17: 118 Hong Bang street, Ward 12, District 5, HCMC, VN
A18: Human Resource | B18: Note | F18: 118 Hong Bang street, Ward 12, District 5, HCMC, VN
... A49: Bio-Medical Equipment | B49: Note | F49: 118 Hong Bang street, Ward 12, District 5, HCMC, VN

Sheet NFX 30-205 (2013)
A1: N1.E1: Lancement de la démarche par la direction | E1: NFX 30-205 (2013) - Environnement par étapes
A2: N1.E2: Analyse environnementale préliminaire
A3: N1.E3: Analyse des principales exigences réglementaires et autres | E3: 6 Niveau 3
A4: N1.E4: Elaboration et mise en œuvre du plan d'actions prioritaires | E4: 6.1 Niveau 3 — Étape 1 — Communication
A5: N1.E5: Formalisation de l'engagement | E5: 6.2 Niveau 3 — Étape 2 — Surveillance et mesurage
A6: N1.E6: Réunion bilan | E6: 6.3 Niveau 3 — Étape 3 — Évaluation de la conformité
A7: N2.E1: Politique environnementale* et domaine d'application | E7: 6.4 Niveau 3 — Étape 4 — Non-conformité*, action corrective et action préventive*
A8: N2.E2: Ressources, rôles, responsabilité et autorité | E8: 6.5 Niveau 3 — Étape 5 — Documentation et enregistrements*
A9: N2.E3: Aspects environnementaux* significatifs | E9: 6.6 Niveau 3 — Étape 6 — Audit interne*
A10: N2.E4: Exigences légales et autres exigences | E10: 6.7 Niveau 3 — Étape 7 — Revue de direction
A11: N2.E5: Objectifs, cibles et programme(s) environnementaux
A12: N2.E6: Maîtrise operationnelle
A13: N2 E7: Compétence, formation et sensibilisation
A14: N2 E8: Préparation et réponse aux situations d'urgence
A15: N2.E9: Revue de direction

Sheet NFX 30-205 (2018)
E1: NFX 30-205 (2018) - Environnement par étapes
A2: Niveau 1 – Étape 1 – Contexte de l’organisme
A3: Niveau 1 – étape 2 - Lancement formel de la démarche par la direction et définition du domaine d’application
A4: Niveau 1 – Étape 3 - Analyse environnementale préliminaire
A5: Niveau 1 – Étape 4 – Analyse des principales obligations de conformité
A6: Niveau 1 – Étape 5 – Élaboration et mise en œuvre du plan d'actions prioritaires
A7: Niveau 1 – Étape 6 – Formalisation de la première politique environnementale
A8: Niveau 1 – Étape 7 – Réunion bilan
A10: Niveau 2 – Étape 1 – Leadership, ressources, rôles, responsabilité et autorité
A11: Niveau 2 – Étape 2– Mise à jour du contexte et des enjeux et validation du domaine d’application
A12: Niveau 2 – Étape 3 – Aspects environnementaux
A13: Niveau 2 – Étape 4 – Obligations de conformité
A14: Niveau 2 – Étape 5 – Politique environnementale
... A26: Niveau 3 – Étape 6 - Non-conformité, action corrective et amélioration continue

Sheet Surveillance1
D1: Audit findings
A2: Surveillance 1 | D2: Date (month/year): 10/2019 | E2: =Initial_Renewal!E2 -> Organization: 3181780 (LTTC)
A3: “Type”: Major Nonconformity (Maj NC), Minor Nonconformity (Min NC), Area of Concern (AOC), Opportunity for Improvement (OFI), Strength (S), Note of Conformity (Note)
A4: “X/>>”: NCs, AOCs closed (X) or renewed or with follow-up (>>)
A5: Processes / Principles / Organization | B5: Type | C5: No. | D5: Wording of the finding | F5: Site concerned | G5: ISO 9001 V2015 | H5: ISO 14001 V2015 | I5: OHSAS 18001 V2007 | J5: ISO 45001 V2018 | K5: NFX 30-205 V2013 | L5: NFX 30-205 V2018 | M5: ISO 50001 2011 | N5: ISO 50001 V2018 | O5: ITSMS 20000-1 V2011 | P5: ISMS 27001 V2013 | Q5: FSMS 22000 V2005 | R5: FSMS 22000 V2018 | S5: ISO 13485 v2016 | T5: RMS 20121 V2012 | U5: AMS 55001 2014 | V5: ISO 20252 2012 | W5: ISO 18295-1 | X5: HDS 1.1 (2018) | Y5: ISO 19443 (2018) | Z5: X/>> | AA5: Order | AB5: Subject to be entered if used for summary
A6: Top Management | B6: S | D6: Cam kết rất cao của Ban giám hiệu & các lãnh đạo đơn vị trong quá trình xây dựng, duy trì và cải tiến HTQLCL nhằm thực hiện chiến lược phát triển bền vững của Trường High leadership & commitment of management in developing, maintaining and improving effectiveness of quality management system for implementation the sustainable development strategy of LTTC | F6: 390 Hoàng Văn Thụ Street, Ward 4, Tân Bình District, Ho Chi Minh City, Viet Nam | G6: 5.1 Leadership and commitment
A7: Top Management | B7: S | D7: Đầu tư và phát triển nguồn lực, cải tiến chuẩn mực chất lượng giáo dục và thúc đẩy văn hóa doanh nghiệp hướng đến giá trị cốt lỗi (Nhân Văn - Sáng Tạo - Phát triển & Bền Vững) Investment and development of resources, improvement of quality standards of education and promotion of corporate culture towards core values (Humanities - Innovation - Development & Sustainability) | F7: 390 Hoàng Văn Thụ Street, Ward 4, Tân Bình District, Ho Chi Minh City, Viet Nam | G7: 5.1 Leadership and commitment
A8: Top Management | B8: S | D8: Tỉ lệ sinh viên đã tốt nghiệp có việc làm cao/The percentage of students who graduated with high employment | F8: 390 Hoàng Văn Thụ Street, Ward 4, Tân Bình District, Ho Chi Minh City, Viet Nam | G8: 9.1 Monitoring, measurement, analysis and evaluation
A9: Top Management | B9: S | D9: Đạt chứng nhận đủ điều kiện đào tạo nghề Công Nghệ Ô Tô theo tiêu chuẩn của Đức. Achieve certificate of eligibility for vocational training of Automotive Technology according to German standards | F9: 390 Hoàng Văn Thụ Street, Ward 4, Tân Bình District, Ho Chi Minh City, Viet Nam | G9: 5.1 Leadership and commitment
A10: Information Technology Faculty & Maintenance – Servicing Dept. | B10: AOC | D10: Sự cố & sửa chữa thiết bị đào tạo phát liên tục (Vd. Nhật ký sửa chữa MMT phòng máy H1305 …), cần thông kê và phân tích thời gian dừng máy tác động đến thời gian giàng dạy & học tập của SV để xác định và thực hiện các biện pháp quản lý MMTB thích hợp (bảo trì cải tiến, đầu tư …) | F10: 390 Hoàng Văn Thụ Street, Ward 4, Tân Bình District, Ho Chi Minh City, Viet Nam | G10: 7.1.3 Infrastructure
A11: Information Technology Faculty | B11: AOC | D11: Đã đánh giá và xác định hành động kiểm soát rủi ro cơ hội cho quá trình giảng dạy tháng 7/2019, tuy nhiên cần thực hiện tách biệt cho từng ngành đào tào (tin học ứng dụng, thiết kế đồ họa, quản trị mạng máy tính …) | F11: 390 Hoàng Văn Thụ Street, Ward 4, Tân Bình District, Ho Chi Minh City, Viet Nam | G11: 6.1 Actions to address risks and opportunities
A12: Information Technology & Automotive Engineering Faculty | B12: AOC | D12: Khi có sự thay đổi về chương trình đào tạo, giáo trình đào tạo (kiến thức, kỹ năng thực hiện …), khoa cần tái kiểm tra năng lực của giảng viên liên quan đến phạm vi thay đổi này và triển khai các hành động cần thiết (nghiên cứu, đào tạp nội bộ ….) để bổ sung năng lực thích hợp trước khi phân công | F12: 390 Hoàng Văn Thụ Street, Ward 4, Tân Bình District, Ho Chi Minh City, Viet Nam | G12: 7.2 Competence
A13: Information Technology & Automotive Engineering Faculty | B13: AOC | D13: Đánh giá và xem xét các chương trường đào tạo đã thực hiện và báo cáo bằng văn bản, tuy nhiên nội dung biên bản cần ghi nhận hay viện dẫn dữ liệu khách quan (Vd. Kết qủa khảo sát từ Doanh Nghiệp/SV đã tốt nghiệp …) như là cơ sở xem xem xét và xác định phạm vị & yêu cầu cải tiến chương trình đào tạo hay không? | F13: 390 Hoàng Văn Thụ Street, Ward 4, Tân Bình District, Ho Chi Minh City, Viet Nam | G13: 8.3 Design and development of products and services
A14: Information Technology & Automotive Engineering Faculty | B14: AOC | D14: Các giáo trình đã được xem xét trước khi sử dụng đào tạo, tuy nhiên cần xác định phương pháp & duy trì thông tin thích hợp về các trách nhiệm & kết quả xem xét, phê duyệt nhằm đảm bảo kiến thức đào tạo phù hợp với đề án & chương trình đào tạo cập nhật, và rõ ràng, dể hiểu cho sinh viên sử dụng …. | F14: 390 Hoàng Văn Thụ Street, Ward 4, Tân Bình District, Ho Chi Minh City, Viet Nam | G14: 7.5 Documented information
A15: Information Technology & Automotive Engineering Faculty | B15: OFI | D15: Cần xem xét và chuẩn hóa các giáo án của các môn học để tham khảo và sử dụng thích hợp | F15: 390 Hoàng Văn Thụ Street, Ward 4, Tân Bình District, Ho Chi Minh City, Viet Nam | G15: 7.5 Documented information
A16: Automotive Engineering Faculty | B16: AOC | D16: Cần xác định và thực hiện hiệu chuẩn hay kiểm tra xác nhận nội bô định kỳ các phương tiện đo phục vụ đào tạo tác động kết quả kiểm tra của sinh viên (Vd. Dụng cụ kiểm tra ô tô scan tool ID. G1FDDMN044, thiết bị kiểm tra chuẩn đoán hệ thống điện …) | F16: 390 Hoàng Văn Thụ Street, Ward 4, Tân Bình District, Ho Chi Minh City, Viet Nam | G16: 7.1.5 Monitoring and measuring resources
A17: Enrollment & Training Dept. | B17: AOC | D17: ADM-PR-01 (thủ tục thiết kế và phê duyệt dịch vụ đào tạo) cần bổ sung rõ các trách nhiệm thực hiện & kiểm soát cải tiến các chương trình đào tạo định kỳ, trong đó bao gồm chuẩn năng lực của các thành phần tham gia & duy trì cơ sỡ dữ diệu khảo sát/đánh giá chất lượng chương trình đào tạo đáp ứng nhu cầu & mong đợi của DN & chiến lược phát triển của Trường | F17: 390 Hoàng Văn Thụ Street, Ward 4, Tân Bình District, Ho Chi Minh City, Viet Nam | G17: 8.3 Design and development of products and services
... A24: Maintenance – Servicing Dept. | B24: AOC | D24: 1/Kiểm tra và bổ sung chỉ dẫn thoát hiểm, sơ đồ thoát nạn và điểm tập trung khi khẩn cấp 2/Cần duy trì biên bản đã diễn tập PCCC tháng 11/2018, trong đó bao gồm danh sách tham gia của SVHS & CBCBN trường 3/Đã tự kiểm tra định kỳ hàng tháng PCCC, tuy nhiên cần lập checklist kiểm tra từng khu vực để tránh thiếu sót (bao gồm phương tiện báo cháy, chữa cháy) | F24: 390 Hoàng Văn Thụ Street, Ward 4, Tân Bình District, Ho Chi Minh City, Viet Nam | G24: 7.1.4 Environment for the operation of processes

Sheet Surveillance2
D1: Audit findings
A2: Surveillance 2 | D2: Date (month/year): | E2: =Initial_Renewal!E2 -> Organization: 3181780 (LTTC)
A3: “Type”: Major Nonconformity (Maj NC), Minor Nonconformity (Min NC), Area of Concern (AOC), Opportunity for Improvement (OFI), Strength (S), Note of Conformity (Note)
A4: “X/>>”: NCs, AOCs closed (X) or renewed or with follow-up (>>)
A5: Processes / Principles / Organization | B5: Type | C5: No. | D5: Wording of the finding | F5: Site concerned | G5: ISO 9001 V2015 | H5: ISO 14001 V2015 | I5: OHSAS 18001 V2007 | J5: ISO 45001 V2018 | K5: NFX 30-205 V2013 | L5: NFX 30-205 V2018 | M5: ISO 50001 2011 | N5: ISO 50001 V2018 | O5: ITSMS 20000-1 V2011 | P5: ISMS 27001 V2013 | Q5: FSMS 22000 V2005 | R5: FSMS 22000 V2018 | S5: ISO 13485 v2016 | T5: RMS 20121 V2012 | U5: AMS 55001 2014 | V5: ISO 20252 2012 | W5: ISO 18295-1 | X5: HDS 1.1 (2018) | Y5: ISO 19443 (2018) | Z5: X/>> | AA5: Order | AB5: Subject to be entered if used for summary
D6: Version V11 of December 2018 of the Excel audit findings file provides the following new features: deletion of the non-usable standards (ISO 9001v2008, ISO 14001v2004, etc.) ; addition of applicable standards (ISO 45001v2018, ISO 50001v2018, ISO 22000v2018, NFX 30-205v2018, ISO 18295-1, ISO 1933v2018, HDS 1.1), addition of concepts of Areas of Uncertainty which can be used only for "Promotional information on medicinal products” audits. Note: - for multi-site audits, column F is used to attach your findings to the "site concerned". --> Complete the "Sites" Excel sheet so that you only have to enter the name of the sites once and can find them in the form of a drop-down menu in the "Site concerned" column for each audit. For single-site audits, hide this column. - between column O and X, columns are hidden. They include standards ISO 20000-1, ISO 27001, ISO 22000, ISO 20121, ISO 55001, ISO 20252, ISO 18295-1, HDS 1.1 and ISO 19443. --> To show them, select columns F to X, then right-click with the mouse and click "Unhide". All the hidden columns will be displayed. Repeat the same selection procedure to hide the columns you don't need (final click = "Hide”) and so make the report easier to read for the customer. Please only leave visible columns which you require, and hide the others.

Sheet Surveillance3
D1: Audit findings
A2: Surveillance 3 | D2: Date (month/year): | E2: =Initial_Renewal!E2 -> Organization: 3181780 (LTTC)
A3: “Type”: Major Nonconformity (Maj NC), Minor Nonconformity (Min NC), Area of Concern (AOC), Opportunity for Improvement (OFI), Strength (S), Note of Conformity (Note)
A4: “X/>>”: NCs, AOCs closed (X) or renewed or with follow-up (>>)
A5: Processes / Principles / Organization | B5: Type | C5: No. | D5: Wording of the finding | F5: Site concerned | G5: ISO 9001 V2015 | H5: ISO 14001 V2015 | I5: OHSAS 18001 V2007 | J5: ISO 45001 V2018 | K5: NFX 30-205 V2013 | L5: NFX 30-205 V2018 | M5: ISO 50001 2011 | N5: ISO 50001 V2018 | O5: ITSMS 20000-1 V2011 | P5: ISMS 27001 V2013 | Q5: FSMS 22000 V2005 | R5: FSMS 22000 V2018 | S5: ISO 13485 v2016 | T5: RMS 20121 V2012 | U5: AMS 55001 2014 | V5: ISO 20252 2012 | W5: ISO 18295-1 | X5: HDS 1.1 (2018) | Y5: ISO 19443 (2018) | Z5: X/>> | AA5: Order | AB5: Subject to be entered if used for summary
D6: Version V11 of December 2018 of the Excel audit findings file provides the following new features: deletion of the non-usable standards (ISO 9001v2008, ISO 14001v2004, etc.) ; addition of applicable standards (ISO 45001v2018, ISO 50001v2018, ISO 22000v2018, NFX 30-205v2018, ISO 18295-1, ISO 1933v2018, HDS 1.1), addition of concepts of Areas of Uncertainty which can be used only for "Promotional information on medicinal products” audits. Note: - for multi-site audits, column F is used to attach your findings to the "site concerned". --> Complete the "Sites" Excel sheet so that you only have to enter the name of the sites once and can find them in the form of a drop-down menu in the "Site concerned" column for each audit. For single-site audits, hide this column. - between column O and X, columns are hidden. They include standards ISO 20000-1, ISO 27001, ISO 22000, ISO 20121, ISO 55001, ISO 20252, ISO 18295-1, HDS 1.1 and ISO 19443. --> To show them, select columns F to X, then right-click with the mouse and click "Unhide". All the hidden columns will be displayed. Repeat the same selection procedure to hide the columns you don't need (final click = "Hide”) and so make the report easier to read for the customer. Please only leave visible columns which you require, and hide the others.

Sheet Surveillance4
D1: Audit findings
A2: Surveillance 4 | D2: Date (month/year): | E2: =Initial_Renewal!E2 -> Organization: 3181780 (LTTC)
A3: “Type”: Major Nonconformity (Maj NC), Minor Nonconformity (Min NC), Area of Concern (AOC), Opportunity for Improvement (OFI), Strength (S), Note of Conformity (Note)
A4: “X/>>”: NCs, AOCs closed (X) or renewed or with follow-up (>>)
A5: Processes / Principles / Organization | B5: Type | C5: No. | D5: Wording of the finding | F5: Site concerned | G5: ISO 9001 V2015 | H5: ISO 14001 V2015 | I5: OHSAS 18001 V2007 | J5: ISO 45001 V2018 | K5: NFX 30-205 V2013 | L5: NFX 30-205 V2018 | M5: ISO 50001 2011 | N5: ISO 50001 V2018 | O5: ITSMS 20000-1 V2011 | P5: ISMS 27001 V2013 | Q5: FSMS 22000 V2005 | R5: FSMS 22000 V2018 | S5: ISO 13485 v2016 | T5: RMS 20121 V2012 | U5: AMS 55001 2014 | V5: ISO 20252 2012 | W5: ISO 18295-1 | X5: HDS 1.1 (2018) | Y5: ISO 19443 (2018) | Z5: X/>> | AA5: Order | AB5: Subject to be entered if used for summary
D6: Version V11 of December 2018 of the Excel audit findings file provides the following new features: deletion of the non-usable standards (ISO 9001v2008, ISO 14001v2004, etc.) ; addition of applicable standards (ISO 45001v2018, ISO 50001v2018, ISO 22000v2018, NFX 30-205v2018, ISO 18295-1, ISO 1933v2018, HDS 1.1), addition of concepts of Areas of Uncertainty which can be used only for "Promotional information on medicinal products” audits. Note: - for multi-site audits, column F is used to attach your findings to the "site concerned". --> Complete the "Sites" Excel sheet so that you only have to enter the name of the sites once and can find them in the form of a drop-down menu in the "Site concerned" column for each audit. For single-site audits, hide this column. - between column O and X, columns are hidden. They include standards ISO 20000-1, ISO 27001, ISO 22000, ISO 20121, ISO 55001, ISO 20252, ISO 18295-1, HDS 1.1 and ISO 19443. --> To show them, select columns F to X, then right-click with the mouse and click "Unhide". All the hidden columns will be displayed. Repeat the same selection procedure to hide the columns you don't need (final click = "Hide”) and so make the report easier to read for the customer. Please only leave visible columns which you require, and hide the others.

Sheet Surveillance5
D1: Audit findings
A2: Surveillance 5 | D2: Date (month/year): | E2: =Initial_Renewal!E2 -> Organization: 3181780 (LTTC)
A3: “Type”: Major Nonconformity (Maj NC), Minor Nonconformity (Min NC), Area of Concern (AOC), Opportunity for Improvement (OFI), Strength (S), Note of Conformity (Note)
A4: “X/>>”: NCs, AOCs closed (X) or renewed or with follow-up (>>)
A5: Processes / Principles / Organization | B5: Type | C5: No. | D5: Wording of the finding | F5: Site concerned | G5: ISO 9001 V2015 | H5: ISO 14001 V2015 | I5: OHSAS 18001 V2007 | J5: ISO 45001 V2018 | K5: NFX 30-205 V2013 | L5: NFX 30-205 V2018 | M5: ISO 50001 2011 | N5: ISO 50001 V2018 | O5: ITSMS 20000-1 V2011 | P5: ISMS 27001 V2013 | Q5: FSMS 22000 V2005 | R5: FSMS 22000 V2018 | S5: ISO 13485 v2016 | T5: RMS 20121 V2012 | U5: AMS 55001 2014 | V5: ISO 20252 2012 | W5: ISO 18295-1 | X5: HDS 1.1 (2018) | Y5: ISO 19443 (2018) | Z5: X/>> | AA5: Order | AB5: Subject to be entered if used for summary
D6: Version V11 of December 2018 of the Excel audit findings file provides the following new features: deletion of the non-usable standards (ISO 9001v2008, ISO 14001v2004, etc.) ; addition of applicable standards (ISO 45001v2018, ISO 50001v2018, ISO 22000v2018, NFX 30-205v2018, ISO 18295-1, ISO 1933v2018, HDS 1.1), addition of concepts of Areas of Uncertainty which can be used only for "Promotional information on medicinal products” audits. Note: - for multi-site audits, column F is used to attach your findings to the "site concerned". --> Complete the "Sites" Excel sheet so that you only have to enter the name of the sites once and can find them in the form of a drop-down menu in the "Site concerned" column for each audit. For single-site audits, hide this column. - between column O and X, columns are hidden. They include standards ISO 20000-1, ISO 27001, ISO 22000, ISO 20121, ISO 55001, ISO 20252, ISO 18295-1, HDS 1.1 and ISO 19443. --> To show them, select columns F to X, then right-click with the mouse and click "Unhide". All the hidden columns will be displayed. Repeat the same selection procedure to hide the columns you don't need (final click = "Hide”) and so make the report easier to read for the customer. Please only leave visible columns which you require, and hide the others.

Sheet SGSI 20k
A1: 4 Service management system general requirements | B1: ISO/CEI 20000-1 v2011
A2: 4.1 Management responsibility | B2: codifié SGSI
A3: 4.1.1 Management commitment
A4: 4.1.2 Service management policy
A5: 4.1.3 Authority, responsibility and communication
A6: 4.1.4 Management representative
A7: 4.2 Governance of processes operated by other parties
A8: 4.3 Documentation management
A9: 4.3.1 Establish and maintain documents
A10: 4.3.2 Control of documents
A11: 4.3.3 Control of records
A12: 4.4 Resource management
A13: 4.4.1 Provision of resources
A14: 4.4.2 Human resources
... A48: 9.3 Release and deployment management

Sheet SMSI2013
A1: 1 Scope | B1: Referentiel:
A2: 2 Normative references | B2: ISO/CEI 27001 v2013
A3: 3 Terms and definitions | B3: codifié SMSI2013
A4: 4 Context of the organization
A5: 4.1 Understanding the organization and its context
A6: 4.2 Understanding the needs and expectations of interested parties
A7: 4.3 Determining the scope of the information security management system
A8: 4.4 Information security management system
A9: 5 Leadership
A10: 5.1 Leadership and commitment
A11: 5.2 Policy
A12: 5.3 Organizational roles, responsibilities and authorities
A13: 6 Planning
A14: 6.1 Actions to address risks and opportunities
A15: 6.2 Information security objectives and planning to achieve them
... A32: 10.2 Continual improvement

Sheet SMSDA
A1: 4.1 General requirements | B1: Referentiel:
A2: 4.2 Documentation requirements | B2: ISO 22000:2005
A3: 4.2.1 General | B3: codifié SMSDA
A4: 4.2.2 Control of documents
A5: 4.2.3 Control of records
A6: 5.1 Management commitment
A7: 5.2 Food safety policy
A8: 5.3 Food safety management system planning
A9: 5.4 Responsibility and authority
A10: 5.5 Food safety team leader
A11: 5.6 Communication
A12: 5.6.1 External communication
A13: 5.6.2 Internal communication
A14: 5.7 Emergency preparedness and response
A15: 5.8 Management review
... A49: 8.5.2 Updating the food safety management system

Sheet SMSDA (2018)
A1: 4 Context of the organization | B1: Referentiel:
A2: 4.1 Understanding the organization and its context | B2: ISO 22000:2018
A3: 4.2 Understanding the needs and expectations of interested parties | B3: codifié SMSDA
A4: 4.3 Determining the scope of the food safety management system
A5: 4.4. Food safety management system
A6: 5 Leadership
A7: 5.1 Leadership and commitment
A8: 5.2 Policy
A9: 5.3 Organizational roles, responsibilities and authorities
A10: 6 Planning
A11: 6.1 Actions to address risks and opportunities
A12: 6.2 Objectives of the food safety management system and planning to achieve them
A13: 6.3 Planning of changes
A14: 7 Support
A15: 7.1 Resources
... A42: 10.3 Update of the food safety management system

Sheet SMR20121
A1: 4.1 Understanding of the organization and its context | B1: Réferentiel
A2: 4.2 Understanding the needs and expectations of interested parties | B2: ISO 20121
A3: 4.3 Determining the scope of the event sustainability management system | B3: SMR20121
A4: 4.4 Event sustainability management system
A5: 4.5 Sustainable development principles, statement of purpose and values
A6: 5.1 Leadership and commitment
A7: 5.2 Policy
A8: 5.2.1 Top management shall establish a sustainable development policy that
A9: 5.2.2 The organization shall retain documented information on the policy
A10: 5.3 Organizational roles, responsibilities and authorities
A11: 6 Planning
A12: 6.1.1 Actions to address risks and opportunities : general
A13: 6.1.2 Issue identification and evaluation
A14: 6.1.3 Legal and other requirements
A15: 6.2 Event sustainability objectives and how to achieve them
... A35: 10.2 Continual improvement

Sheet SMGA 55k
A1: 1 Scope | B1: SMGA
A2: 2 Normative reference | B2: Système de management de gestion d'actifs
A3: 3 Terms and definitions | B3: ISO 55001 du 18 Juillet 2014
A4: 4 Context of the organization | B4: Abreviation SMGA
A5: 4.1 Understanding the organization ant its context
A6: 4.2 Understanding the needs and expectations of stakeholders
A7: 4.3 Determining the scope of the asset management system
A8: 4.4 Asset management system
A9: 5 Leadership
A10: 5.1 Leadership and commitment
A11: 5.2 Policy
A12: 5.3 Organizational roles, responsibilities and authorities
A13: 6 Planning
A14: 6.1 Actions to adress risks and opportunities for the asset management system
A15: 6.2 Asset management objectives and planning to achieve them
A16: 7 Support
... A34: 10.3 Continual improvement

Sheet  ISO 20252 2012
A1: 1 Scope | B1: ISO 20252
A2: 2 Terms and definitions | B2: Market, opinion and social research — Vocabulary and service requirements
A3: 3 Research process management system requirements | B3: MOSR20252
A4: 3.1 Organization and responsibilities
A5: 3.2 Confidentiality of research
A6: 3.3 Documentation requirements
A7: 3.4 Competence and training
A8: 3.5 Subcontracting / outsourcing
A9: 3.6 Reviewing the effectiveness of the research process management system
A10: 4 Managing the executive elements of research
A11: 4.1 Responding to research request
A12: 4.2 Project schedule
A13: 4.3 Assistance by and cooperation with clients
A14: 4.4 Questionaires and discussion guides
A15: 4.5 Managing sampling and data processing
... A44: 7.4 Observational research

Sheet ISO 50001(2018)
A1: 4.1 Understanding the organization and its context | E1: ISO 50001 (2018)
A2: 4.2 Understanding the needs and expectations of interested parties
A3: 4.3 Determining the scope of the energy management system
A4: 4.4 Energy management system
A5: 5.1 Leadership and commitment
A6: 5.2 Energy policy
A7: 5.3 Organization roles, responsibilities and authorities
A8: 6.1 Actions to address risks and opportunities
A9: 6.2 Objectives, energy targets and planning to achieve them
A10: 6.3 Energy review
A11: 6.4 Energy performance indicators
A12: 6.5 Energy baseline
A13: 6.6 Planning for collection of energy data
... A33: 10.2 Continual improvement

Sheet ISO 13485(2016)
A1: 4.1 General requirements | B1: ISO 13485 (2016)
A2: 4.2 Documentation requirements
A3: 5.1 Management commitment
A4: 5.2 Customer focus
A5: 5.3 Quality policy
A6: 5.4 Planning
A7: 5.5 Responsibility, authority and communication
A8: 5.6 Management review
A9: 6.1 Provision of resources
A10: 6.2 Human resources
A11: 6.3 Infrastructure
A12: 6.4 Work environment and contamination control
A13: 7.1 Planning of product realization
... A23: 8.5 Improvement

Sheet ISO 22000 (2018)
A1: 4 Context of the organization | C1: ISO 22000 (2018)
A2: 4.1 Understanding the organization and its context
A3: 4.2 Understanding the needs and expectations of interested parties
A4: 4.3 Determining the scope of the food safety management system
A5: 4.4. Food safety management system
A6: 5 Leadership
A7: 5.1 Leadership and commitment
A8: 5.2 Policy
A9: 5.3 Organizational roles, responsibilities and authorities
A10: 6 Planning
A11: 6.1 Actions to address risks and opportunities
A12: 6.2 Objectives of the food safety management system and planning to achieve them
A13: 6.3 Planning of changes
... A88: 10.3 Update of the food safety management system

Sheet Sites
A1: List below the names of the sites in the certification scope
A2: 390 Hoàng Văn Thụ Street, Ward 4, Tân Bình District, Ho Chi Minh City, Viet Nam
B101: Last line taken into account

Sheet ProcessOrganization
A1: Processes / Principles / Organization | B1: This sheet is to be filled in at the start of the audit cycle Do not enter anything outside of column A. Do not leave rows empty. Replace <Processus> with the name of the process and complete the following rows. In case of modifications, simply add new processes afterwards. It is not necessary to delete rows no longer used. In the context of an E/OH audit, subject areas other than processes may prove useful such as zones or services. The audit findings sheets will now include a column so that you can specify the site concerned by finding, and 9 columns for 'most used' standards. The Sites column and QSE standards are automatically displayed, the other columns are hidden. Each column for a standard has a drop-down menu allowing you to select a requirement of the standard so avoiding the need to type it in. As well as the Section number we have added the name of the standard for easier reading by our customers. To make the report easier to read you are asked to hide unused columns. To do this in Excel, carry out the following operations: - 1) select the columns that are not needed, - 2) right-click with the mouse, then select "Hide" To display all hidden columns and so the complete range of available standards: - 1) select columns D to M - 2) right-click with the mouse and select "Unhide", then press Enter. - 3) remember to then hide the unused columns. Thank you Hint: at the time of the first audit, prepare the file for your next two audits straight away. | H1: This sheet is not to be printed
A2: Top Management
A3: Testing & QA Dept.
A4: Enrollment & Training Dept.
A5: Admin. - HR & General Affairs Dept.
A6: Machinery - Materials & Maintenance – Servicing Dept.
A7: Machinery - Materials Dept.
A8: Maintenance – Servicing Dept.
A9: Mechanical Engineering Faculty
A10: Electrical - Electronic Engineering Faculty
A11: Information Technology Faculty
A12: Automotive Engineering Faculty
A13: Student Development & Couselling Dept.
... A32: Warning: no calculations beyond this limit
B76: Warning, last line taken into account

Sheet ENV2015
A1: 4 Context of the organization | B1: Référentiel:
A2: 4.1 Understanding the organization and its context | B2: NORME 14001 IS 2015
A3: 4.2 Understanding the needs and expectations of interested parties | B3: pas de FDX
A4: 4.3 Determining the scope of the environmental management system | B4: codifié ENV2015B
A5: 4.4 Environmental management system
A6: 5 Leadership
A7: 5.1 Leadership and commitment
A8: 5.2 Environmental policy
A9: 5.3 Organizational roles, responsibilities and authorities
A10: 6 Planning
A11: 6.1 Actions to address risks and opportunities
A12: 6.1.1 General
A13: 6.1.2 Environmental aspects
A14: 6.1.3 Compliance obligations
A15: 6.1.4 Planning action
A16: 6.2 Environmental objectives and planning to achieve them
... A45: 10.3 Continual improvement

Sheet QUAL2015
A1: 4 Context of the organization | B1: Réferentiel
A2: 4.1 Understanding the organization and its context | B2: ISO 9001:2015
A3: 4.2 Understanding the needs and expectations of interested parties | B3: codifié QUAL2015B
A4: 4.3 Determining the scope of the quality management system
A5: 4.4 Quality management system and its processes
A6: 5 Leadership
A7: 5.1 Leadership and commitment
A8: 5.1.1 General
A9: 5.1.2 Customer focus
A10: 5.2 Policy
A11: 5.2.1 Establishing the quality policy
A12: 5.2.2 Communicating the quality policy
A13: 5.3 Organizational roles, responsibilities and authorities
A14: 6 Planning
A15: 6.1 Actions to address risks and opportunities
... A73: 10.3 Continual improvement

Sheet OHSAS
A1: 1 Scope | B1: Référentiel:
A2: 2 Reference publications | B2: NORMES ILO-OSH, BS8800, OHSAS18001
A3: 3 Terms and definitions | B3: codifié SEC
A4: 4 OH&S management system elements
A5: 4.1 General requirements
A6: 4.2 OH&S policy
A7: 4.3 Planning
A8: 4.3.1 Hazard identification, risk assessment and determining controls
A9: 4.3.2 Legal and other requirements
A10: 4.3.3 Objectives and programme(s)
A11: 4.4 Implementation and operation
A12: 4.4.1 Resources, roles, responsibility,accountability and authority
A13: 4.4.2 Competence, training and awareness
A14: 4.4.3 Communication, participation and consultation
A15: 4.4.4 Documentation
... A27: 4.6 Management review

Sheet Environnement
B1: Référentiel:
B3: NF X30-205 - 03/2013
B4: codifié ENV
A22: N1.E1: Lancement de la démarche par la direction
A23: N1.E2: Analyse environnementale préliminaire
A24: N1.E3: Analyse des principales exigences réglementaires et autres | E24: 6 Niveau 3
A25: N1.E4: Elaboration et mise en œuvre du plan d'actions prioritaires | E25: 6.1 Niveau 3 — Étape 1 — Communication
A26: N1.E5: Formalisation de l'engagement | E26: 6.2 Niveau 3 — Étape 2 — Surveillance et mesurage
A27: N1.E6: Réunion bilan | E27: 6.3 Niveau 3 — Étape 3 — Évaluation de la conformité
A28: N2.E1: Politique environnementale* et domaine d'application | E28: 6.4 Niveau 3 — Étape 4 — Non-conformité*, action corrective et action préventive*
A29: N2.E2: Ressources, rôles, responsabilité et autorité | E29: 6.5 Niveau 3 — Étape 5 — Documentation et enregistrements*
A30: N2.E3: Aspects environnementaux* significatifs | E30: 6.6 Niveau 3 — Étape 6 — Audit interne*
A31: N2.E4: Exigences légales et autres exigences | E31: 6.7 Niveau 3 — Étape 7 — Revue de direction
A32: N2.E5: Objectifs, cibles et programme(s) environnementaux
A33: N2.E6: Maîtrise operationnelle
A34: N2 E7: Compétence, formation et sensibilisation
A35: N2 E8: Préparation et réponse aux situations d'urgence
A36: N2.E9: Revue de direction

Sheet ISO 45001v2018
A1: 4 Context of the organization
A2: 4.1 Understanding the organization and its context | G2: ISO 45001
A3: 4.2 Understanding the needs and expectations of workers and other interested parties | C3: ISO 45001 v2018 | F3: 1 | G3: Domaine d’application
A4: 4.3 Determining the scope of the OH&S management system | F4: 2 | G4: Références normatives
A5: 4.4 OH&S management system | F5: 3 | G5: Termes et définitions
A6: 5 Leadership and worker participation | F6: 4 | G6: Contexte de l’organisme
A7: 5.1 Leadership and commitment | F7: 4.1 | G7: Compréhension de l’organisme et de son contexte
A8: 5.2 OH&S policy | F8: 4.2 | G8: Compréhension des besoins et attentes des travailleurs et autres parties intéressées
A9: 5.3 Organizational roles, responsibilities and authorities | F9: 4.3 | G9: Détermination du domaine d’application du système de management de la S&ST
A10: 5.4 Consultation and participation of workers | F10: 4.4 | G10: Système de management de la S&ST
A11: 6 Planning | F11: 5 | G11: leadership et participation/coopération des travailleurs
A12: 6.1 Actions to address risks and opportunities | F12: 5.1 | G12: leadership et Engagement
A13: 6.1.1 General | F13: 5.2 | G13: Politique de SST
A14: 6.1.2 Hazard identification and assessment of risks and opportunities | F14: 5.3 | G14: Rôles, responsabilités, obligations et autorités au sein de l’organisme
A15: 6.1.3 Determination of legal requirements and other requirements | F15: 5.4 | G15: Participation/coopération et consultation
A16: 6.1.4 Planning action | F16: 6 | G16: Planification
A17: 6.2 OH&S objectives and planning to achieve them | F17: 6.1 | G17: Actions à mettre en œuvre face aux risques et opportunités
A18: 6.2.1 OH&S objectives | F18: 6.1.1 | G18: Généralités
A19: 6.2.2 Planning to achieve OH&S objectives | F19: 6.1.2 | G19: Identification des dangers et évaluation des risques professionnels
A20: 7 Support | F20: 6.1.3 | G20: Détermination des exigences légales et autres exigences applicables
A21: 7.1 Resources | F21: 6.1.4 | G21: Planification des actions
A22: 7.2 Competence | F22: 6.2 | G22: Objectifs de S&ST et planification des actions pour les atteindre
A23: 7.3 Awareness | F23: 6.2 .1 | G23: Objectifs de S&ST
A24: 7.4 Communication | F24: 6.2.2 | G24: Planification pour l'atteinte des obejctifs SST
A25: 7.4.1 General | F25: 7 | G25: Support
A26: 7.4.2 Internal communication | F26: 7.1 | G26: Ressources
A27: 7.4.3 External communication | F27: 7.2 | G27: Compétences
A28: 7.5 Documented information | F28: 7.3 | G28: Sensibilisation / prise de conscience
A29: 7.5.1 General | F29: 7.4 | G29: Communication
A30: 7.5.2 Creating and updating | F30: 7.4.1 | G30: Généralités
A31: 7.5.3 Control of documented information | F31: 7.4.2 | G31: communication interne
A32: 8 Operation | F32: 7.4.3 | G32: Communication externe
A33: 8.1 Operational planning and control | F33: 7.5 | G33: Informations documentées
A34: 8.1.1 General | F34: 7.5.1 | G34: Généralités
A35: 8.1.2 Eliminating hazards and reducing OH&S risks | F35: 7.5.2 | G35: Création et mise à jour des informations documentées
A36: 8.1.3 Management of change | F36: 7.5.3 | G36: Maîtrise des informations documentées
A37: 8.1.4 Procurement | F37: 8 | G37: Réalisation des activités opérationnelles
A38: 8.2 Emergency preparedness and response | F38: 8.1 | G38: planification et maîtrise opérationnelle
A39: 9 Performance evaluation | F39: 8.1.1 | G39: Généralités
A40: 9.1 Monitoring, measurement, analysis and performance evaluation | F40: 8.1.2 | G40: Elimination des dangers et réduction des risques pour la S&ST
...

Sheet Overview
A1: Overview by type of finding relative to the integrated management system
E3: Audits at 6 or 9 months
B4: =MID(CELL("adresse",Initial_Renewal!A1),FIND("]",CELL("adresse",Initial_Renewal!A1))+1,LEN(CELL("adresse",Initial_Renewal!A1))-6-FIND("]",CELL("adresse",Initial_Renewal!A1))) -> #VALUE! | C4: =MID(CELL("adresse",Surveillance1!A1),FIND("]",CELL("adresse",Surveillance1!A1))+1,LEN(CELL("adresse",Surveillance1!A1))-6-FIND("]",CELL("adresse",Surveillance1!A1))) -> #VALUE! | D4: =MID(CELL("adresse",Surveillance2!A1),FIND("]",CELL("adresse",Surveillance2!A1))+1,LEN(CELL("adresse",Surveillance2!A1))-6-FIND("]",CELL("adresse",Surveillance2!A1))) -> #VALUE! | E4: =MID(CELL("adresse",Surveillance3!A1),FIND("]",CELL("adresse",Surveillance3!A1))+1,LEN(CELL("adresse",Surveillance3!A1))-6-FIND("]",CELL("adresse",Surveillance3!A1))) -> #VALUE! | F4: =MID(CELL("adresse",Surveillance4!A1),FIND("]",CELL("adresse",Surveillance4!A1))+1,LEN(CELL("adresse",Surveillance4!A1))-6-FIND("]",CELL("adresse",Surveillance4!A1))) -> #VALUE! | G4: =MID(CELL("adresse",Surveillance5!A1),FIND("]",CELL("adresse",Surveillance5!A1))+1,LEN(CELL("adresse",Surveillance5!A1))-6-FIND("]",CELL("adresse",Surveillance5!A1))) -> #VALUE!
A5: =Types!C3 -> Major Nonconformity | B5: =COUNTIF(Initial_Renewal!B:B,Types!A3) -> 0 | C5: =COUNTIF(Surveillance1!B:B,Types!A3) -> 0 | D5: =COUNTIF(Surveillance2!B:B,Types!A3) -> 0 | E5: =COUNTIF(Surveillance3!B:B,Types!A3) -> 0 | F5: =COUNTIF(Surveillance4!B:B,Types!A3) -> 0 | G5: =COUNTIF(Surveillance5!B:B,Types!A3) -> 0
A6: =Types!C4 -> Minor Nonconformity | B6: =COUNTIF(Initial_Renewal!B:B,Types!A4) -> 0 | C6: =COUNTIF(Surveillance1!B:B,Types!A4) -> 0 | D6: =COUNTIF(Surveillance2!B:B,Types!A4) -> 0 | E6: =COUNTIF(Surveillance3!B:B,Types!A4) -> 0 | F6: =COUNTIF(Surveillance4!B:B,Types!A4) -> 0 | G6: =COUNTIF(Surveillance5!B:B,Types!A4) -> 0
A7: =Types!C5 -> Area of Concern | B7: =COUNTIF(Initial_Renewal!B:B,Types!A5) -> 0 | C7: =COUNTIF(Surveillance1!B:B,Types!A5) -> 14 | D7: =COUNTIF(Surveillance2!B:B,Types!A5) -> 0 | E7: =COUNTIF(Surveillance3!B:B,Types!A5) -> 0 | F7: =COUNTIF(Surveillance4!B:B,Types!A5) -> 0 | G7: =COUNTIF(Surveillance5!B:B,Types!A5) -> 0
A8: =Types!C6 -> Opportunity For Improvement | B8: =COUNTIF(Initial_Renewal!B:B,Types!A6) -> 0 | C8: =COUNTIF(Surveillance1!B:B,Types!A6) -> 1 | D8: =COUNTIF(Surveillance2!B:B,Types!A6) -> 0 | E8: =COUNTIF(Surveillance3!B:B,Types!A6) -> 0 | F8: =COUNTIF(Surveillance4!B:B,Types!A6) -> 0 | G8: =COUNTIF(Surveillance5!B:B,Types!A6) -> 0
A9: =Types!C7 -> Strenght | B9: =COUNTIF(Initial_Renewal!B:B,Types!A7) -> 0 | C9: =COUNTIF(Surveillance1!B:B,Types!A7) -> 4 | D9: =COUNTIF(Surveillance2!B:B,Types!A7) -> 0 | E9: =COUNTIF(Surveillance3!B:B,Types!A7) -> 0 | F9: =COUNTIF(Surveillance4!B:B,Types!A7) -> 0 | G9: =COUNTIF(Surveillance5!B:B,Types!A7) -> 0
A11: Current action requests by process
B13: NCs and AOCs not verified ('Closed/Renewed' cells empty)
B14: =B4 -> #VALUE! | C14: =C4 -> #VALUE! | D14: =D4 -> #VALUE! | E14: =E4 -> #VALUE! | F14: =F4 -> #VALUE! | G14: =G4 -> #VALUE!
A15: =ProcessOrganization!A2 -> Top Management | B15: =SUMPRODUCT((Initial_Renewal!$A$6:$A$396=$A15)*((Initial_Renewal!$B$6:$B$396=Types!$A$3)+(Initial_Renewal!$B$6:$B$396=Types!$A$4)+(Initial_Renewal!$B$6:$B$396=Types!$A$5))*(Initial_Renewal!$Z$6:$Z$396="")) -> 0 | C15: =SUMPRODUCT((Surveillance1!$A$5:$A$275=$A15)*((Surveillance1!$B$5:$B$275=Types!$A$3)+(Surveillance1!$B$5:$B$275=Types!$A$4)+(Surveillance1!$B$5:$B$275=Types!$A$5))*(Surveillance1!$Z$5:$Z$275="")) -> 1 | D15: =SUMPRODUCT((Surveillance2!$A$5:$A$500=$A15)*((Surveillance2!$B$5:$B$500=Types!$A$3)+(Surveillance2!$B$5:$B$500=Types!$A$4)+(Surveillance2!$B$5:$B$500=Types!$A$5))*(Surveillance2!$Z$5:$Z$500="")) -> 0 | F15: =SUMPRODUCT((Surveillance4!$A$5:$A$500=$A15)*((Surveillance4!$B$5:$B$500=Types!$A$3)+(Surveillance4!$B$5:$B$500=Types!$A$4)+(Surveillance4!$B$5:$B$500=Types!$A$5))*(Surveillance4!$Z$5:$Z$500="")) -> 0 | G15: =SUMPRODUCT((Surveillance5!$A$5:$A$500=$A15)*((Surveillance5!$B$5:$B$500=Types!$A$3)+(Surveillance5!$B$5:$B$500=Types!$A$4)+(Surveillance5!$B$5:$B$500=Types!$A$5))*(Surveillance5!$Z$5:$Z$500="")) -> 0
A16: =ProcessOrganization!A3 -> Testing & QA Dept. | B16: =SUMPRODUCT((Initial_Renewal!$A$6:$A$396=$A16)*((Initial_Renewal!$B$6:$B$396=Types!$A$3)+(Initial_Renewal!$B$6:$B$396=Types!$A$4)+(Initial_Renewal!$B$6:$B$396=Types!$A$5))*(Initial_Renewal!$Z$6:$Z$396="")) -> 0 | C16: =SUMPRODUCT((Surveillance1!$A$5:$A$275=$A16)*((Surveillance1!$B$5:$B$275=Types!$A$3)+(Surveillance1!$B$5:$B$275=Types!$A$4)+(Surveillance1!$B$5:$B$275=Types!$A$5))*(Surveillance1!$Z$5:$Z$275="")) -> 2 | D16: =SUMPRODUCT((Surveillance2!$A$5:$A$500=$A16)*((Surveillance2!$B$5:$B$500=Types!$A$3)+(Surveillance2!$B$5:$B$500=Types!$A$4)+(Surveillance2!$B$5:$B$500=Types!$A$5))*(Surveillance2!$Z$5:$Z$500="")) -> 0 | F16: =SUMPRODUCT((Surveillance4!$A$5:$A$500=$A16)*((Surveillance4!$B$5:$B$500=Types!$A$3)+(Surveillance4!$B$5:$B$500=Types!$A$4)+(Surveillance4!$B$5:$B$500=Types!$A$5))*(Surveillance4!$Z$5:$Z$500="")) -> 0 | G16: =SUMPRODUCT((Surveillance5!$A$5:$A$500=$A16)*((Surveillance5!$B$5:$B$500=Types!$A$3)+(Surveillance5!$B$5:$B$500=Types!$A$4)+(Surveillance5!$B$5:$B$500=Types!$A$5))*(Surveillance5!$Z$5:$Z$500="")) -> 0
A17: =ProcessOrganization!A4 -> Enrollment & Training Dept. | B17: =SUMPRODUCT((Initial_Renewal!$A$6:$A$396=$A17)*((Initial_Renewal!$B$6:$B$396=Types!$A$3)+(Initial_Renewal!$B$6:$B$396=Types!$A$4)+(Initial_Renewal!$B$6:$B$396=Types!$A$5))*(Initial_Renewal!$Z$6:$Z$396="")) -> 0 | C17: =SUMPRODUCT((Surveillance1!$A$5:$A$275=$A17)*((Surveillance1!$B$5:$B$275=Types!$A$3)+(Surveillance1!$B$5:$B$275=Types!$A$4)+(Surveillance1!$B$5:$B$275=Types!$A$5))*(Surveillance1!$Z$5:$Z$275="")) -> 1 | D17: =SUMPRODUCT((Surveillance2!$A$5:$A$500=$A17)*((Surveillance2!$B$5:$B$500=Types!$A$3)+(Surveillance2!$B$5:$B$500=Types!$A$4)+(Surveillance2!$B$5:$B$500=Types!$A$5))*(Surveillance2!$Z$5:$Z$500="")) -> 0 | F17: =SUMPRODUCT((Surveillance4!$A$5:$A$500=$A17)*((Surveillance4!$B$5:$B$500=Types!$A$3)+(Surveillance4!$B$5:$B$500=Types!$A$4)+(Surveillance4!$B$5:$B$500=Types!$A$5))*(Surveillance4!$Z$5:$Z$500="")) -> 0 | G17: =SUMPRODUCT((Surveillance5!$A$5:$A$500=$A17)*((Surveillance5!$B$5:$B$500=Types!$A$3)+(Surveillance5!$B$5:$B$500=Types!$A$4)+(Surveillance5!$B$5:$B$500=Types!$A$5))*(Surveillance5!$Z$5:$Z$500="")) -> 0
A18: =ProcessOrganization!A5 -> Admin. - HR & General Affairs Dept. | B18: =SUMPRODUCT((Initial_Renewal!$A$6:$A$396=$A18)*((Initial_Renewal!$B$6:$B$396=Types!$A$3)+(Initial_Renewal!$B$6:$B$396=Types!$A$4)+(Initial_Renewal!$B$6:$B$396=Types!$A$5))*(Initial_Renewal!$Z$6:$Z$396="")) -> 0 | C18: =SUMPRODUCT((Surveillance1!$A$5:$A$275=$A18)*((Surveillance1!$B$5:$B$275=Types!$A$3)+(Surveillance1!$B$5:$B$275=Types!$A$4)+(Surveillance1!$B$5:$B$275=Types!$A$5))*(Surveillance1!$Z$5:$Z$275="")) -> 0 | D18: =SUMPRODUCT((Surveillance2!$A$5:$A$500=$A18)*((Surveillance2!$B$5:$B$500=Types!$A$3)+(Surveillance2!$B$5:$B$500=Types!$A$4)+(Surveillance2!$B$5:$B$500=Types!$A$5))*(Surveillance2!$Z$5:$Z$500="")) -> 0 | F18: =SUMPRODUCT((Surveillance4!$A$5:$A$500=$A18)*((Surveillance4!$B$5:$B$500=Types!$A$3)+(Surveillance4!$B$5:$B$500=Types!$A$4)+(Surveillance4!$B$5:$B$500=Types!$A$5))*(Surveillance4!$Z$5:$Z$500="")) -> 0 | G18: =SUMPRODUCT((Surveillance5!$A$5:$A$500=$A18)*((Surveillance5!$B$5:$B$500=Types!$A$3)+(Surveillance5!$B$5:$B$500=Types!$A$4)+(Surveillance5!$B$5:$B$500=Types!$A$5))*(Surveillance5!$Z$5:$Z$500="")) -> 0
A19: =ProcessOrganization!A6 -> Machinery - Materials & Maintenance – Servicing Dept. | B19: =SUMPRODUCT((Initial_Renewal!$A$6:$A$396=$A19)*((Initial_Renewal!$B$6:$B$396=Types!$A$3)+(Initial_Renewal!$B$6:$B$396=Types!$A$4)+(Initial_Renewal!$B$6:$B$396=Types!$A$5))*(Initial_Renewal!$Y$6:$Y$396="")) -> 0 | C19: =SUMPRODUCT((Surveillance1!$A$5:$A$275=$A19)*((Surveillance1!$B$5:$B$275=Types!$A$3)+(Surveillance1!$B$5:$B$275=Types!$A$4)+(Surveillance1!$B$5:$B$275=Types!$A$5))*(Surveillance1!$Z$5:$Z$275="")) -> 0 | D19: =SUMPRODUCT((Surveillance2!$A$5:$A$500=$A19)*((Surveillance2!$B$5:$B$500=Types!$A$3)+(Surveillance2!$B$5:$B$500=Types!$A$4)+(Surveillance2!$B$5:$B$500=Types!$A$5))*(Surveillance2!$Z$5:$Z$500="")) -> 0 | F19: =SUMPRODUCT((Surveillance4!$A$5:$A$500=$A19)*((Surveillance4!$B$5:$B$500=Types!$A$3)+(Surveillance4!$B$5:$B$500=Types!$A$4)+(Surveillance4!$B$5:$B$500=Types!$A$5))*(Surveillance4!$Z$5:$Z$500="")) -> 0 | G19: =SUMPRODUCT((Surveillance5!$A$5:$A$500=$A19)*((Surveillance5!$B$5:$B$500=Types!$A$3)+(Surveillance5!$B$5:$B$500=Types!$A$4)+(Surveillance5!$B$5:$B$500=Types!$A$5))*(Surveillance5!$Z$5:$Z$500="")) -> 0
A20: =ProcessOrganization!A7 -> Machinery - Materials Dept. | B20: =SUMPRODUCT((Initial_Renewal!$A$6:$A$396=$A20)*((Initial_Renewal!$B$6:$B$396=Types!$A$3)+(Initial_Renewal!$B$6:$B$396=Types!$A$4)+(Initial_Renewal!$B$6:$B$396=Types!$A$5))*(Initial_Renewal!$Y$6:$Y$396="")) -> 0 | C20: =SUMPRODUCT((Surveillance1!$A$5:$A$275=$A20)*((Surveillance1!$B$5:$B$275=Types!$A$3)+(Surveillance1!$B$5:$B$275=Types!$A$4)+(Surveillance1!$B$5:$B$275=Types!$A$5))*(Surveillance1!$Z$5:$Z$275="")) -> 0 | D20: =SUMPRODUCT((Surveillance2!$A$5:$A$500=$A20)*((Surveillance2!$B$5:$B$500=Types!$A$3)+(Surveillance2!$B$5:$B$500=Types!$A$4)+(Surveillance2!$B$5:$B$500=Types!$A$5))*(Surveillance2!$Z$5:$Z$500="")) -> 0 | F20: =SUMPRODUCT((Surveillance4!$A$5:$A$500=$A20)*((Surveillance4!$B$5:$B$500=Types!$A$3)+(Surveillance4!$B$5:$B$500=Types!$A$4)+(Surveillance4!$B$5:$B$500=Types!$A$5))*(Surveillance4!$Z$5:$Z$500="")) -> 0 | G20: =SUMPRODUCT((Surveillance5!$A$5:$A$500=$A20)*((Surveillance5!$B$5:$B$500=Types!$A$3)+(Surveillance5!$B$5:$B$500=Types!$A$4)+(Surveillance5!$B$5:$B$500=Types!$A$5))*(Surveillance5!$Z$5:$Z$500="")) -> 0
A21: =ProcessOrganization!A8 -> Maintenance – Servicing Dept. | B21: =SUMPRODUCT((Initial_Renewal!$A$6:$A$396=$A21)*((Initial_Renewal!$B$6:$B$396=Types!$A$3)+(Initial_Renewal!$B$6:$B$396=Types!$A$4)+(Initial_Renewal!$B$6:$B$396=Types!$A$5))*(Initial_Renewal!$Y$6:$Y$396="")) -> 0 | C21: =SUMPRODUCT((Surveillance1!$A$5:$A$275=$A21)*((Surveillance1!$B$5:$B$275=Types!$A$3)+(Surveillance1!$B$5:$B$275=Types!$A$4)+(Surveillance1!$B$5:$B$275=Types!$A$5))*(Surveillance1!$Z$5:$Z$275="")) -> 1 | D21: =SUMPRODUCT((Surveillance2!$A$5:$A$500=$A21)*((Surveillance2!$B$5:$B$500=Types!$A$3)+(Surveillance2!$B$5:$B$500=Types!$A$4)+(Surveillance2!$B$5:$B$500=Types!$A$5))*(Surveillance2!$Z$5:$Z$500="")) -> 0 | F21: =SUMPRODUCT((Surveillance4!$A$5:$A$500=$A21)*((Surveillance4!$B$5:$B$500=Types!$A$3)+(Surveillance4!$B$5:$B$500=Types!$A$4)+(Surveillance4!$B$5:$B$500=Types!$A$5))*(Surveillance4!$Z$5:$Z$500="")) -> 0 | G21: =SUMPRODUCT((Surveillance5!$A$5:$A$500=$A21)*((Surveillance5!$B$5:$B$500=Types!$A$3)+(Surveillance5!$B$5:$B$500=Types!$A$4)+(Surveillance5!$B$5:$B$500=Types!$A$5))*(Surveillance5!$Z$5:$Z$500="")) -> 0
A22: =ProcessOrganization!A9 -> Mechanical Engineering Faculty | B22: =SUMPRODUCT((Initial_Renewal!$A$6:$A$396=$A22)*((Initial_Renewal!$B$6:$B$396=Types!$A$3)+(Initial_Renewal!$B$6:$B$396=Types!$A$4)+(Initial_Renewal!$B$6:$B$396=Types!$A$5))*(Initial_Renewal!$Y$6:$Y$396="")) -> 0 | C22: =SUMPRODUCT((Surveillance1!$A$5:$A$275=$A22)*((Surveillance1!$B$5:$B$275=Types!$A$3)+(Surveillance1!$B$5:$B$275=Types!$A$4)+(Surveillance1!$B$5:$B$275=Types!$A$5))*(Surveillance1!$Z$5:$Z$275="")) -> 0 | D22: =SUMPRODUCT((Surveillance2!$A$5:$A$500=$A22)*((Surveillance2!$B$5:$B$500=Types!$A$3)+(Surveillance2!$B$5:$B$500=Types!$A$4)+(Surveillance2!$B$5:$B$500=Types!$A$5))*(Surveillance2!$Z$5:$Z$500="")) -> 0 | F22: =SUMPRODUCT((Surveillance4!$A$5:$A$500=$A22)*((Surveillance4!$B$5:$B$500=Types!$A$3)+(Surveillance4!$B$5:$B$500=Types!$A$4)+(Surveillance4!$B$5:$B$500=Types!$A$5))*(Surveillance4!$Z$5:$Z$500="")) -> 0 | G22: =SUMPRODUCT((Surveillance5!$A$5:$A$500=$A22)*((Surveillance5!$B$5:$B$500=Types!$A$3)+(Surveillance5!$B$5:$B$500=Types!$A$4)+(Surveillance5!$B$5:$B$500=Types!$A$5))*(Surveillance5!$Z$5:$Z$500="")) -> 0
A23: =ProcessOrganization!A10 -> Electrical - Electronic Engineering Faculty | B23: =SUMPRODUCT((Initial_Renewal!$A$6:$A$396=$A23)*((Initial_Renewal!$B$6:$B$396=Types!$A$3)+(Initial_Renewal!$B$6:$B$396=Types!$A$4)+(Initial_Renewal!$B$6:$B$396=Types!$A$5))*(Initial_Renewal!$Y$6:$Y$396="")) -> 0 | C23: =SUMPRODUCT((Surveillance1!$A$5:$A$275=$A23)*((Surveillance1!$B$5:$B$275=Types!$A$3)+(Surveillance1!$B$5:$B$275=Types!$A$4)+(Surveillance1!$B$5:$B$275=Types!$A$5))*(Surveillance1!$Z$5:$Z$275="")) -> 0 | D23: =SUMPRODUCT((Surveillance2!$A$5:$A$500=$A23)*((Surveillance2!$B$5:$B$500=Types!$A$3)+(Surveillance2!$B$5:$B$500=Types!$A$4)+(Surveillance2!$B$5:$B$500=Types!$A$5))*(Surveillance2!$Z$5:$Z$500="")) -> 0 | F23: =SUMPRODUCT((Surveillance4!$A$5:$A$500=$A23)*((Surveillance4!$B$5:$B$500=Types!$A$3)+(Surveillance4!$B$5:$B$500=Types!$A$4)+(Surveillance4!$B$5:$B$500=Types!$A$5))*(Surveillance4!$Z$5:$Z$500="")) -> 0 | G23: =SUMPRODUCT((Surveillance5!$A$5:$A$500=$A23)*((Surveillance5!$B$5:$B$500=Types!$A$3)+(Surveillance5!$B$5:$B$500=Types!$A$4)+(Surveillance5!$B$5:$B$500=Types!$A$5))*(Surveillance5!$Z$5:$Z$500="")) -> 0
A24: =ProcessOrganization!A11 -> Information Technology Faculty | B24: =SUMPRODUCT((Initial_Renewal!$A$6:$A$396=$A24)*((Initial_Renewal!$B$6:$B$396=Types!$A$3)+(Initial_Renewal!$B$6:$B$396=Types!$A$4)+(Initial_Renewal!$B$6:$B$396=Types!$A$5))*(Initial_Renewal!$Y$6:$Y$396="")) -> 0 | C24: =SUMPRODUCT((Surveillance1!$A$5:$A$275=$A24)*((Surveillance1!$B$5:$B$275=Types!$A$3)+(Surveillance1!$B$5:$B$275=Types!$A$4)+(Surveillance1!$B$5:$B$275=Types!$A$5))*(Surveillance1!$Z$5:$Z$275="")) -> 1 | D24: =SUMPRODUCT((Surveillance2!$A$5:$A$500=$A24)*((Surveillance2!$B$5:$B$500=Types!$A$3)+(Surveillance2!$B$5:$B$500=Types!$A$4)+(Surveillance2!$B$5:$B$500=Types!$A$5))*(Surveillance2!$Z$5:$Z$500="")) -> 0 | F24: =SUMPRODUCT((Surveillance4!$A$5:$A$500=$A24)*((Surveillance4!$B$5:$B$500=Types!$A$3)+(Surveillance4!$B$5:$B$500=Types!$A$4)+(Surveillance4!$B$5:$B$500=Types!$A$5))*(Surveillance4!$Z$5:$Z$500="")) -> 0 | G24: =SUMPRODUCT((Surveillance5!$A$5:$A$500=$A24)*((Surveillance5!$B$5:$B$500=Types!$A$3)+(Surveillance5!$B$5:$B$500=Types!$A$4)+(Surveillance5!$B$5:$B$500=Types!$A$5))*(Surveillance5!$Z$5:$Z$500="")) -> 0
A25: =ProcessOrganization!A12 -> Automotive Engineering Faculty | B25: =SUMPRODUCT((Initial_Renewal!$A$6:$A$396=$A25)*((Initial_Renewal!$B$6:$B$396=Types!$A$3)+(Initial_Renewal!$B$6:$B$396=Types!$A$4)+(Initial_Renewal!$B$6:$B$396=Types!$A$5))*(Initial_Renewal!$Y$6:$Y$396="")) -> 0 | C25: =SUMPRODUCT((Surveillance1!$A$5:$A$275=$A25)*((Surveillance1!$B$5:$B$275=Types!$A$3)+(Surveillance1!$B$5:$B$275=Types!$A$4)+(Surveillance1!$B$5:$B$275=Types!$A$5))*(Surveillance1!$Z$5:$Z$275="")) -> 1 | D25: =SUMPRODUCT((Surveillance2!$A$5:$A$500=$A25)*((Surveillance2!$B$5:$B$500=Types!$A$3)+(Surveillance2!$B$5:$B$500=Types!$A$4)+(Surveillance2!$B$5:$B$500=Types!$A$5))*(Surveillance2!$Z$5:$Z$500="")) -> 0 | F25: =SUMPRODUCT((Surveillance4!$A$5:$A$500=$A25)*((Surveillance4!$B$5:$B$500=Types!$A$3)+(Surveillance4!$B$5:$B$500=Types!$A$4)+(Surveillance4!$B$5:$B$500=Types!$A$5))*(Surveillance4!$Z$5:$Z$500="")) -> 0 | G25: =SUMPRODUCT((Surveillance5!$A$5:$A$500=$A25)*((Surveillance5!$B$5:$B$500=Types!$A$3)+(Surveillance5!$B$5:$B$500=Types!$A$4)+(Surveillance5!$B$5:$B$500=Types!$A$5))*(Surveillance5!$Z$5:$Z$500="")) -> 0
A26: =ProcessOrganization!A13 -> Student Development & Couselling Dept. | B26: =SUMPRODUCT((Initial_Renewal!$A$6:$A$396=$A26)*((Initial_Renewal!$B$6:$B$396=Types!$A$3)+(Initial_Renewal!$B$6:$B$396=Types!$A$4)+(Initial_Renewal!$B$6:$B$396=Types!$A$5))*(Initial_Renewal!$Y$6:$Y$396="")) -> 0 | C26: =SUMPRODUCT((Surveillance1!$A$5:$A$275=$A26)*((Surveillance1!$B$5:$B$275=Types!$A$3)+(Surveillance1!$B$5:$B$275=Types!$A$4)+(Surveillance1!$B$5:$B$275=Types!$A$5))*(Surveillance1!$Z$5:$Z$275="")) -> 1 | D26: =SUMPRODUCT((Surveillance2!$A$5:$A$500=$A26)*((Surveillance2!$B$5:$B$500=Types!$A$3)+(Surveillance2!$B$5:$B$500=Types!$A$4)+(Surveillance2!$B$5:$B$500=Types!$A$5))*(Surveillance2!$Z$5:$Z$500="")) -> 0 | F26: =SUMPRODUCT((Surveillance4!$A$5:$A$500=$A26)*((Surveillance4!$B$5:$B$500=Types!$A$3)+(Surveillance4!$B$5:$B$500=Types!$A$4)+(Surveillance4!$B$5:$B$500=Types!$A$5))*(Surveillance4!$Z$5:$Z$500="")) -> 0 | G26: =SUMPRODUCT((Surveillance5!$A$5:$A$500=$A26)*((Surveillance5!$B$5:$B$500=Types!$A$3)+(Surveillance5!$B$5:$B$500=Types!$A$4)+(Surveillance5!$B$5:$B$500=Types!$A$5))*(Surveillance5!$Z$5:$Z$500="")) -> 0
A27: =ProcessOrganization!A14 -> Centers (Communication - Library) | B27: =SUMPRODUCT((Initial_Renewal!$A$6:$A$396=$A27)*((Initial_Renewal!$B$6:$B$396=Types!$A$3)+(Initial_Renewal!$B$6:$B$396=Types!$A$4)+(Initial_Renewal!$B$6:$B$396=Types!$A$5))*(Initial_Renewal!$Y$6:$Y$396="")) -> 0 | C27: =SUMPRODUCT((Surveillance1!$A$5:$A$275=$A27)*((Surveillance1!$B$5:$B$275=Types!$A$3)+(Surveillance1!$B$5:$B$275=Types!$A$4)+(Surveillance1!$B$5:$B$275=Types!$A$5))*(Surveillance1!$Z$5:$Z$275="")) -> 0 | D27: =SUMPRODUCT((Surveillance2!$A$5:$A$500=$A27)*((Surveillance2!$B$5:$B$500=Types!$A$3)+(Surveillance2!$B$5:$B$500=Types!$A$4)+(Surveillance2!$B$5:$B$500=Types!$A$5))*(Surveillance2!$Z$5:$Z$500="")) -> 0 | F27: =SUMPRODUCT((Surveillance4!$A$5:$A$500=$A27)*((Surveillance4!$B$5:$B$500=Types!$A$3)+(Surveillance4!$B$5:$B$500=Types!$A$4)+(Surveillance4!$B$5:$B$500=Types!$A$5))*(Surveillance4!$Z$5:$Z$500="")) -> 0 | G27: =SUMPRODUCT((Surveillance5!$A$5:$A$500=$A27)*((Surveillance5!$B$5:$B$500=Types!$A$3)+(Surveillance5!$B$5:$B$500=Types!$A$4)+(Surveillance5!$B$5:$B$500=Types!$A$5))*(Surveillance5!$Z$5:$Z$500="")) -> 0
